Workbook
Name _Toc427122059: 'Playground Works'!#REF!
Name _Toc427122062: 'Playground Works'!#REF!
Name _Toc427122073: 'Playground Works'!#REF!
Name _Toc441239757: 'Playground Works'!#REF!
Name _Toc441239758: 'Playground Works'!#REF!

Sheet COVER
A1: Wodonga Creek Activation Project
A3: Schedule of Quantities - Issue For Tender
A6: SUMMARY OF SECTIONS
A8: ='Establishment & Preliminaries'!A1 -> 1 | B8: ='Establishment & Preliminaries'!B1 -> Establishment & Preliminaries | F8: ='Establishment & Preliminaries'!F13 -> 0
A9: ='Diamond Park'!A1 -> 2 | B9: ='Diamond Park'!B1 -> Diamond Park | F9: ='Diamond Park'!F95 -> 0
A10: ='Stock Route North'!A1 -> 3 | B10: ='Stock Route North'!B1 -> Stock Route North | F10: ='Stock Route North'!F43 -> 0
A11: ='Stock Route South & Dick St'!A1 -> 4 | B11: ='Stock Route South & Dick St'!B1 -> Stock Route South & Dick St | F11: ='Stock Route South & Dick St'!F46 -> 0
A12: ='Provisionals & Miscellaneous'!A1 -> 5 | B12: ='Provisionals & Miscellaneous'!B1 -> Provisionals & Miscellaneous | F12: ='Provisionals & Miscellaneous'!F30 -> 0
C14: SUB TOTAL | E14: =SUM(F8:F12) -> 0
C15: GST | E15: =0.1*E14 -> 0
C16: TOTAL | E16: =SUM(E14:E15) -> 0
A19: NOTE
A20: 1 | B20: Measurement of Planimetric quantities shall be dimensions in a horizontal or vertical plane.
A21: 2 | B21: Although the quantities shown are taken out with care, they are not guaranteed and are given only as a guide for the Tenderer.
A22: 3 | B22: The earthworks quantities shown are net volumetric quantities without allowance for loss, shrinkage, swell or waste. Tenderers shall asses all factors in arriving at their quantities and prices for each of them.
A23: 4 | B23: The contractor shall price the bill of quantities as presented without modification. If the contractor disagrees and deems variations are applicable at the time of tender, these variations shall be listed as an addendum.
A24: 5 | B24: No extra will be allowed should rock be encountered during works.
A25: 6 | B25: This Schedule should be read and interperated with the Approved Drawing Set taking precedence in any particulars of a scheduled item

Sheet Establishment & Preliminaries
A1: 1 | B1: Establishment & Preliminaries
A2: Item | B2: Description of Works | C2: Quantity | D2: Unit | E2: Rate | F2: Amount
A3: 1.1 | B3: Site establishment and preparation including provision of access, survey Setout, provision of site and office compounds, insurances and other works as specified. disposal of all surface rock, dead trees, timber, fences, wire, rubbish and any other materials as specified on the drawings, disposed offsite to a tip to be arranged by the contractor. | C3: 1 | D3: Item | F3: =E3*C3 -> 0
A4: 1.2 | B4: Bank rehabilitation stock road north Undertake exotic trees and woody weed removal, erosion control and revegetate with appropriate local species. | C4: 1050 | D4: item | F4: =C4*E4 -> 0
A5: 1.3 | B5: Northern Bank Remove and grub existing weeds (including trees, woody shrubs and groundcovers) as shown on plans | C5: 1745 | D5: sq.m | F5: =C5*E5 -> 0
A6: 1.4 | B6: Tree Protection Fence | C6: 1000 | D6: Lm | F6: =E6*C6 -> 0
A7: 1.5 | B7: Tree removal in accordance with CEMP | C7: 1 | D7: Item | F7: =E7*C7 -> 0
A8: 1.6 | B8: Pruning Existing Trees in accordance with CEMP | C8: 1 | D8: Item | F8: =E8*C8 -> 0
A9: 1.7 | B9: Erosion & Sediment control in accordance with CEMP | C9: 1 | D9: Item | F9: =E9*C9 -> 0
A10: 1.8 | B10: TMP development, approval and execution on council road/assets for entirety of project including traffic management/control appropriate | C10: 1 | D10: Item | F10: =E10*C10 -> 0
A11: 1.9 | B11: TMP development approval and execution on VicRoads road/assets for entirety of project including traffic management/control where appropriate | C11: 1 | D11: Item | F11: =E11*C11 -> 0
A12: 2 | B12: Clear Demarcation between Vehicle and Pedestrian pathways in public realm | C12: 1 | D12: Item | F12: =E12*C12 -> 0
A13: Establishment & Prelims Total | F13: =SUM(F3:F12) -> 0

Sheet Diamond Park
A1: 2 | B1: Diamond Park
A2: Item | B2: Description of Works | C2: Quantity | D2: Unit | E2: Rate | F2: Amount
A3: 2.1 | B3: Road works & Earthworks
B4: Earthworks
A5: 2.1.1 | B5: Cut | C5: 2000 | D5: m3 | F5: =C5*E5 -> 0
A6: 2.1.2 | B6: Fill | C6: 2400 | D6: m3 | F6: =C6*E6 -> 0
A7: 2.1.3 | B7: Import | C7: 400 | D7: m3 | F7: =C7*E7 -> 0
B9: Spray Seal
A10: 2.2 | B10: Two Coat Primer and Seal 14/17mm | C10: 1722 | D10: m2 | F10: =C10*E10 -> 0
A11: 2.2.1 | B11: Base: 20mm nominal size Class 2 F.C.R 150mm compacted thickness | C11: 1722 | D11: m2 | F11: =C11*E11 -> 0
A12: 2.2.2 | B12: Sub-Base: 20mm nominal size Class 3 C.R 130mm Compacted thickness | C12: 1926 | D12: m2 | F12: =C12*E12 -> 0
A13: 2.2.3 | B13: Subgrade preparation in accordance with the drawings & IDM standard | C13: 1926 | D13: m2 | F13: =C13*E13 -> 0
A15: 2.3 | B15: Asphalt Access Road
A16: 2.3.1 | B16: 30 mm Thick size 10, C170 Binder, Primer Seal 7mm | C16: 890 | D16: m2 | F16: =C16*E16 -> 0
A17: 2.3.2 | B17: Base: 20mm nominal size Class 2 F.C.R 150mm compacted thickness | C17: 890 | D17: m2 | F17: =C17*E17 -> 0
A18: 2.3.3 | B18: Sub-Base: 20mm nominal size Class 3 C.R 130mm Compacted thickness | C18: 1026 | D18: m2 | F18: =C18*E18 -> 0
A19: 2.3.4 | B19: Subgrade preparation in accordance with the drawings & IDM standard | C19: 1026 | D19: m2 | F19: =C19*E19 -> 0
A21: 2.4 | B21: Gravel Hardstand
A22: 2.4.1 | B22: Base: 20mm nominal size Class 2 F.C.R 150mm compacted thickness | C22: 412 | D22: m2 | F22: =C22*E22 -> 0
A23: 2.4.2 | B23: Subgrade preparation in accordance with the drawings & IDM standard | C23: 412 | D23: m2 | F23: =C23*E23 -> 0
A25: 2.2 | B25: Concrete & Path Works
B26: Supply of all materials (including joints and reinforcement, all dowels to be galvanised), plant and labour for the construction as specified the following concrete works.
A27: 2.2.1 | B27: Concrete Base SL82 Mesh Reinforced 3.0m WIDTH 32Mpa Concrete 150mm thickness | C27: 295 | D27: 32 | F27: =C27*E27 -> 0
A28: 2.2.3 | B28: 2.50m wide shared path, 125mm thick 25MPa SL72 Mesh concrete including 100mm compacted thickness Size concrete including 100mm compacted thickness Size 20mm Class 3 F.C.R to 97%MMDD. Including all Pram Crossings 20mm Class 3 F.C.R to 97%MMDD. Including all Pram Crossings | C28: 1154 | D28: m2 | F28: =C28*E28 -> 0
A29: 2.2.4 | B29: Granitic sand Path | C29: 86 | D29: m2 | F29: =C29*E29 -> 0
B30: Concrete kerb and channel including reinforcement bedding, laybacks for pram and vehicular crossings where required and transitions as follows.
A31: 2.2.5 | B31: B2 KERB (IDM SD100) | C31: 180 | D31: Lm | F31: =C31*E31 -> 0
A32: 2.2.6 | B32: Dished drain 450 | C32: 44 | D32: Lm | F32: =C32*E32 -> 0
A33: 2.2.7 | B33: Edge strip-300 Width | C33: 300 | D33: Lm | F33: =C33*E33 -> 0
A34: 2.2.8 | B34: Concrete layback for model engine club, Bedding to be compacted Class 3 F.C.R 20mm | C34: 1 | D34: Item | F34: =C34*E34 -> 0
A35: 2.2.9 | B35: Rock retaining wall at Graniti sand path refer to SJE911044 Drawing | C35: 33 | D35: Lm | F35: =C35*E35 -> 0
A36: 2.2.10 | B36: CHARCOAL Stamped Concrete Pad in Road footprint 150 Thick 32 Mpa | C36: 36 | D36: m2 | F36: =C36*E36 -> 0
A38: 2.3 | B38: Fencing
A39: 2.3.1 | B39: Galvanised Steel Bollards | C39: 84 | D39: Item | F39: =C39*E39 -> 0
A40: 2.3.2 | B40: Galvanised Steel Removable Bollards | C40: 3 | D40: Item | F40: =C40*E40 -> 0
A41: 2.3.3 | B41: Galvanised Post and Chain link Fence Type B | C41: 91 | D41: Lm | F41: =C41*E41 -> 0
A42: 2.3.4 | B42: Rural Fence Type C | C42: 106 | D42: Lm | F42: =C42*E42 -> 0
A43: 2.3.5 | B43: Security Fence Type A | D43: Lm | F43: =C43*E43 -> 0
A44: 2.3.6 | B44: Steel Gate 3.6m for Model Engine Club Access Including removing existing Swing Gate | C44: 2 | D44: Item | F44: =C44*E44 -> 0
A45: 2.3.6 | B45: Metal Gate 4m ACCESS TO BOAT RAMP | C45: 1 | D45: item | F45: =C45*E45 -> 0
...

Sheet Playground Works
F1: PLAYGROUND WORKS
F2: Wodonga Creek Activation Project
F3: BILL OF QUANTITIES FOR TENDER
F4: REFER DWGS L-23050-201-203 and 301-303
F5: 18/05/2026 Revision: B
A6: Item | B6: Description | C6: Qty | D6: Unit | E6: Rate | F6: Amount
A8: 1 | B8: Surface treatments
A9: 1.1 | B9: Supply and install certified organic playground mulch | C9: =G9 -> 0 | D9: sq.m | F9: =C9*E9 -> 0
A10: 1.2 | B10: Supply and install Australian made EPDM rubber softfall | C10: =G10 -> 0 | D10: sq.m | F10: =C10*E10 -> 0
A11: 1.3 | B11: Supply and install organic mulch | C11: =G11*0.075 -> 0 | D11: cu.m | F11: =C11*E11 -> 0
A12: 1.4 | B12: Supply and Install mudstones to playground mound | D12: item | F12: =C12*E12 -> 0
A13: 1.5 | B13: Supply and install cut log steppers (customised) | D13: item | F13: =C13*E13 -> 0
A14: 1.6 | B14: Supply and install jutemesh to playground mound | C14: =G14 -> 0 | D14: sq.m | F14: =C14*E14 -> 0
A16: 2 | B16: Grass
A17: 2.1 | B17: Preparation including cultivation of subgrade to 150mm depth and application of gypsum | C17: =C19+C20 -> 1578.96 | D17: sq.m | F17: =C17*E17 -> 0
A18: 2.2 | B18: Supply and spread approved topsoil minimum 100mm depth | C18: =C19+C20 -> 1578.96 | D18: sq.m | F18: =C18*E18 -> 0
A19: 2.3 | B19: Supply and install rolled turf | C19: 351.75 | D19: sq.m | F19: =C19*E19 -> 0
A20: 2.4 | B20: Supply and sow seed into topsoil | C20: 1227.21 | D20: sq.m | F20: =C20*E20 -> 0
F21: =C21*E21 -> 0
A22: 3 | B22: Garden beds
A23: 3.1 | B23: Supply and install root barrier 900mm deep | D23: item
A24: 3.2 | B24: Preparation including cultivation of subgrade to 200mm depth and application of gypsum | D24: sq.m
A25: 3.3 | B25: Supply and spread approved topsoil minimum 200mm depth | D25: sq.m
A27: 4 | B27: Planting
A28: 4.1 | B28: Supply, deliver and install all planting. Refer Plant Schedules on drawings. | D28: item
A30: 5 | B30: Lypa Playground Equipment
A31: 5.1 | B31: Possums' Hangout modified (L025907) | C31: 1 | D31: no. | F31: =C31*E31 -> 0
A32: 5.2 | B32: Dual Rocker (L013210) | C32: 1 | D32: no. | F32: =C32*E32 -> 0
A33: 5.3 | B33: Beastie (L0113210) | C33: 1 | D33: no. | F33: =C33*E33 -> 0
A34: 5.4 | B34: Single Concrete Slide (900mm) (L000203) | C34: 1 | D34: no. | F34: =C34*E34 -> 0
A35: 5.5 | B35: Thongaphone (L007901) | C35: 1 | D35: no. | F35: =C35*E35 -> 0
A36: 5.6 | B36: Gumnut Cubby with cladding (L025912) | C36: 1 | D36: no. | F36: =C36*E36 -> 0
A37: 5.7 | B37: Turtle 1x0.85m + 2x0.50m long | C37: 3 | D37: no. | F37: =C37*E37 -> 0
A38: 5.8 | B38: Delivery and installation of Lypa equipment | D38: item
A42: 6 | B42: Richter Spielgerate Playground Equipment
A43: 6.1 | B43: Toddler Twin Swing incl 1xbaby swing (6.1272) | C43: 1 | D43: no. | F43: =C43*E43 -> 0
A44: 6.2 | B44: Small Spinner (6.264) | C44: 1 | D44: no. | F44: =C44*E44 -> 0
A45: 6.3 | B45: Extra High Swing Special (7.1402) | C45: 1 | D45: no. | F45: =C45*E45 -> 0
A46: 6.4 | B46: Multi Surface Triple Swing (6.1482) | C46: 1 | D46: no. | F46: =C46*E46 -> 0
A47: 6.5 | B47: Ring scales (6.103) | C47: 1 | D47: no. | F47: =C47*E47 -> 0
...

Sheet Stock Route North
A1: 3 | B1: Stock Route North
A2: Item | B2: Description of Works | C2: Quantity | D2: Unit | E2: Rate | F2: Amount
A3: 3.1 | B3: Road works & Earthworks
B4: Sealed Access Road
A5: 3.1.2 | B5: Two Coat Primer and Seal 14/10mm | C5: 175 | D5: m2 | F5: =C5*E5 -> 0
A6: 3.1.3 | B6: Base: 20mm nominal size Class 2 F.C.R 150mm compacted thickness | C6: 175 | D6: m2 | F6: =C6*E6 -> 0
A7: 3.1.4 | B7: Sub-Base: 20mm nominal size Class 3 C.R 100mm Compacted thickness | C7: 175 | D7: m2 | F7: =C7*E7 -> 0
A8: 3.1.5 | B8: Subgrade preparation in accordance with the drawings & IDM standard | C8: 175 | D8: m2 | F8: =C8*E8 -> 0
B10: Maintenance Overlay/Re Seal
A11: 3.1.6 | B11: Strip Back Existing Seal | C11: 719 | D11: m2 | F11: =C11*E11 -> 0
A12: 3.1.7 | B12: Two Coat Primer and Seal 14/10mm | C12: 719 | D12: m2 | F12: =C12*E12 -> 0
A13: 3.1.8 | B13: Base: 20mm nominal size Class 2 F.C.R 100mm compacted thickness | C13: 719 | D13: m2 | F13: =C13*E13 -> 0
B15: Stock Route Single seal overlay
A16: 3.1.9 | B16: Single coat seal 10mm seal including prepare existing road surfacefor seal (Crack Seal and Leveling) | C16: 910 | D16: m2 | F16: =C16*E16 -> 0
B18: Lincoln Causeway Overlay Seal
A19: 3.1.9 | B19: Single coat seal 10mm seal including prepare existing road surfacefor seal (Crack Seal and Leveling) | C19: 250 | D19: m2 | F19: =C19*E19 -> 0
A21: 3.2 | B21: SHARED PATH
A22: 3.2.1 | B22: 2.50m wide footpath, 125mm thick 25MPa SL72 Mesh concrete including 100mm compacted thickness Size 20mm Class 3 F.C.R to 97%MMDD. Including all Pram Crossings | C22: 987 | D22: m2 | F22: =E22*C22 -> 0
A23: 3.2.2 | B23: Features Rock and Mortar wall Upto 1000mm height | C23: 14 | D23: lm | F23: =C23*E23 -> 0
A24: 3.2.3 | B24: Gabion Rock Placement on Bank face at footpath inc Geofabric | C24: 90 | D24: m2 | F24: =C24*E24 -> 0
A25: 3.2.4 | B25: Rock Retaining Wall (By SJE) 400-1200 high | C25: 26 | D25: Lm | F25: =C25*E25 -> 0
A26: 3.2.5 | B26: Deepened Edge Beam on Creek Side , 450D min 200W | C26: 70 | D26: Lm | F26: =C26*E26 -> 0
A27: 3.2.6 | B27: Demolition of Shared Path on Wrights Road | C27: 37 | D27: m2 | F27: =C27*E27 -> 0
A29: 3.3 | B29: Fence
A30: 3.3.1 | B30: Type A (CB10 Wave) | C30: 35 | D30: Lm | F30: =C30*E30 -> 0
A31: 3.3.2 | B31: Type F( Black Security Fence ) | C31: 212 | D31: Lm | F31: =C31*E31 -> 0
A32: 3.3.3 | B32: Type F Fencing Gates | C32: 4 | D32: No. | F32: =C32*E32 -> 0
A34: 3.4 | B34: Miscellanious
A35: 3.4.1 | B35: Construct New Swale Drain in front of carpark to IDM SD500 Rediracting 225DN stormwater RCP class 2RRJ. Reconnecting to existing hadwall | C35: 26 | D35: Lm | F35: =C35*E35 -> 0
A36: 3.4.2 | B36: tidy creek offtake and tie in irrigation system for Black Duck (4x tie in points and 3x valves) | C36: 90 | D36: Lm | F36: =C36*E36 -> 0
A37: 3.4.3 | B37: Standard commercial grad Irrigation Sprinklers inc fittings Refer W023022-B-RD2-DP3 | C37: 4 | D37: Item | F37: =C37*E37 -> 0
A38: 3.4.5 | B38: Line marking and RRPMs to AS 1742-1 1991 and 1742-2 1994. Note removal of Green Coat finish to footpath. Inclusion of raised humps linemarking | C38: 1 | D38: item | F38: =C38*E38 -> 0
A39: 3.4.6 | B39: G13 emeral green bicycle lane as per Austroads AS2700 | C39: 17 | D39: m2 | F39: =C39*E39 -> 0
A40: 3.4.7 | B40: Granitic sand | C40: 56 | D40: m2 | F40: =C40*E40 -> 0
A43: Stock Route North Total | F43: =SUM(F4:F40) -> 0

Sheet Stock Route South & Dick St
A1: 4 | B1: Stock Route South & Dick St
A2: Item | B2: Description of Works | C2: Quantity | D2: Unit | E2: Rate | F2: Amount
A3: 4.1 | B3: Road works & Earthworks
B4: Asphalt Overlay Access Road
A5: 4.1.2 | B5: 30mm Asphalt type L 10mm stone, C170 Binder including primer seal and road surface preperation | C5: 1130 | D5: m2 | F5: =C5*E5 -> 0
A7: 4.1.3 | B7: New Seal and FCR Overlay
A8: 4.1.4 | B8: Two Coat Seal 14/7 inc Prime Including preperation of exixting road | C8: 1400 | D8: m2 | F8: =C8*E8 -> 0
A9: 4.1.5 | B9: Base: 20mm nominal size Class 2 F.C.R 150mm compacted thickness | C9: 1400 | D9: m2 | F9: =C9*E9 -> 0
B11: Full Depth Asphalt Access Road
A12: 4.1.5 | B12: 30mm Asphalt type L 10mm stone, C170 Binder including primer seal | C12: 640 | D12: m2 | F12: =C12*E12 -> 0
A13: 4.1.7 | B13: Base 20mm nominal size Class 2 C.R 150mm Compacted thickness | C13: 640 | D13: m2 | F13: =C13*E13 -> 0
A14: 4.1.8 | B14: Subbase 20mm nominal size Class 3 C.R 130mm Compacted thickness | C14: 640 | D14: m2 | F14: =C14*E14 -> 0
A15: 4.1.9 | B15: Subgrade preparation in accordance with the drawings & IDM standard | C15: 640 | D15: m2 | F15: =C15*E15 -> 0
A16: 4.1.10 | B16: Line marking and RRPMs to AS 1742-1 1991 and 1742-2 1994. Note removal of Green Coat finish to footpath. Inclusion of raised humps linemarking | C16: 1 | D16: item | F16: =C16*E16 -> 0
A18: 4.2 | B18: Shared Path/Concrete Works
A19: 4.2.1 | B19: 2.50m wide footpath, 125mm thick 25MPa SL72 Mesh concrete including 100mm compacted thickness Size 20mm Class 3 F.C.R to 97%MMDD. Including all Pram Crossings | C19: 415 | D19: m2 | F19: =E19*C19 -> 0
A20: 4.2.2 | B20: G13 emeral green bicycle lane as per Austroads AS2700 | C20: 25 | D20: m2 | F20: =E20*C20 -> 0
A21: 4.2.3 | B21: Remove existing path and rehabilitate with 100mm clean topsoil | C21: 49 | D21: m2 | F21: =E21*C21 -> 0
A22: 4.2.4 | B22: B2 KERB (IDM SD100) inc tail outs | C22: 130 | D22: Lm | F22: =E22*C22 -> 0
A23: 4.2.5 | B23: B3 KERB (IDM SD100) inc tail outs | C23: 38 | D23: Lm | F23: =E23*C23 -> 0
A25: 4.3 | B25: Fencing
A26: 4.3.1 | B26: Install Type B Bollard and Chain Fencing | C26: 180 | D26: Lm | F26: =C26*E26 -> 0
A27: 4.3.2 | B27: Install Type E Fencing (BD40 Barrier Fence) | C27: 80 | D27: Lm | F27: =C27*E27 -> 0
A28: 4.3.3 | B28: Remove Existing Barrier Fencing and kerb | C28: 90 | D28: Lm | F28: =C28*E28 -> 0
A29: 4.3.4 | B29: drainage augmentation | C29: 1 | D29: item | F29: =C29*E29 -> 0
A30: 4.3.5 | B30: 4m Metal Gate | C30: 1 | D30: item | F30: =C30*E30 -> 0
A32: 4.4 | B32: Drainage
A33: 4.4.1 | B33: 600 x 900 Grated Pit (GP) Including Concrete Apron Where Indicated | C33: 4 | D33: No. | F33: =C33*E33 -> 0
A34: 4.4.2 | B34: 600 x 900 Grated Pit (GP) Class D | C34: 1 | D34: No. | F34: =C34*E34 -> 0
A35: 4.4.3 | B35: Ø375 STORMPRO OR EQUIV | C35: 71 | D35: Lm | F35: =C35*E35 -> 0
A36: 4.4.5 | B36: Ø375 RCP RRJ | C36: 16 | D36: Lm | F36: =C36*E36 -> 0
A37: 4.4.6 | B37: Ø300 RCP RRJ | C37: 11 | D37: Lm | F37: =C37*E37 -> 0
A38: 4.4.7 | B38: Rock Motar End Wall | C38: 1 | D38: item | F38: =C38*E38 -> 0
A39: 4.4.8 | B39: Install Ø100mm Subsurface drain Class 400 with 20mm screenings | C39: 160 | D39: Lm | F39: =E39*C39 -> 0
A41: 4.5 | B41: Miscellanous
A42: 4.5.1 | B42: Reflective bike holding rail | C42: 4 | D42: item | F42: =C42*E42 -> 0
A43: 4.5.2 | B43: Pedestrians give way to vehicles/ look both ways pavment paint (Rousse int) | C43: 2 | D43: item | F43: =C43*E43 -> 0
A44: 4.5.3 | B44: Installation of all road and path signage as per approved plan set | C44: 1 | D44: item | F44: =C44*E44 -> 0
A46: Stock Route South & Dick St Total | F46: =SUM(F3:F44) -> 0

Sheet Provisionals & Miscellaneous
A1: 5 | B1: Provisionals & Miscellaneous
A2: Item | B2: Description of Works | C2: Qty | D2: Unit | E2: Rate | F2: Amount
A4: 5.1 | B4: SUBGRADE IMPROVEMENT
B5: Excavation of isolated soft, wet or unstable areas within the road reserve for subgrade improvement including replacement and compaction with approved subgrade material and disposal of surplus spoil off site
A6: 5.1.1 | B6: 150mm depth | C6: 500 | D6: m2 | F6: =C6*E6 -> 0
A7: 5.1.2 | B7: 150mm Thick Vicroads Type A Capping Layer | C7: 500 | D7: m2 | F7: =C7*E7 -> 0
A8: 5.1.3 | B8: 150mm Cl 4 FCR Capping layer | C8: 500 | D8: m2 | F8: =C8*E8 -> 0
A9: 5.1.4 | B9: 150mm Cl2 20mm FCR 2% cement treated | C9: 500 | D9: m2 | F9: =C9*E9 -> 0
A10: 5.1.5 | B10: 150mm depth of stabilisation, 3% lime. | C10: ='Stock Route South & Dick St'!C15+'Stock Route North'!C8+'Diamond Park'!C13+'Diamond Park'!C19+'Diamond Park'!C23 -> 4179 | D10: m2 | F10: =C10*E10 -> 0
A12: 5.2 | B12: CCTV DRAINAGE INSPECTION
A13: 5.2.1 | B13: Undertake CCTV inspection and provide footage of all drainage lines | C13: 1 | D13: Item | F13: =C13*E13 -> 0
A15: 5.3 | B15: DESIGN & CONSTRUCT- ELECTRICAL-per Servicing Plan W023022-c-SER-1-2 & to Council satisfaction | C15: 1 | D15: item | F15: =C15*E15 -> 0
A16: 5.3.1 | B16: Provide New footpath lghting, shelter lighting, three phase and gpo power outlets, and all other electrical components required | C16: 1 | D16: item | F16: =C16*E16 -> 0
A18: 5.4 | B18: DESIGN & CONSTRUCT- IRRIGATION DIAMOND PARK-per Servicing Plan W023022-c-SER-1-2 & to Council satisfaction
A19: 5.4.1 | B19: Provide New 50mm PE supply line to Irrigation Box | C19: 100 | D19: Lm | F19: =C19*E19 -> 0
A21: 5.5 | B21: DESIGN & CONSTRUCT-WATER SUPPLY DIAMOND PARK per Servicing Plan W023022-c-SER-1-2 & to Council satisfaction
A22: 5.5.1 | B22: Supply Water to all Diamond Park infrastructure shown in drawing (inc bubblers, taps, water play, hospitality pad, shelters etc) to Council Satisfaction | C22: 1 | D22: item | F22: =C22*E22 -> 0
A24: 5.6 | B24: MISCELLANEOUS WORKS
B25: Extra over for handling non-rippable rock in trenching | C25: 500 | D25: m3 | F25: =C25*E25 -> 0
B26: Rail Trail South Connection-Rectifictaion of gravle upt 150mm and allowance for placement of FCR 100mm overlay | C26: 150 | D26: m2 | F26: =C26*E26 -> 0
B27: Rail Trail South - 10mm Single coat seal Including Primer | C27: 150 | D27: m2 | F27: =C27*E27 -> 0
B28: Rail Trail South - 4m Steel Gate +3m of fenicng tied in to Bridge either side of gate | C28: 1 | D28: item | F28: =C28*E28 -> 0
D30: Provisionals & Miscellaneous Total | F30: =SUM(F3:F29) -> 0
